BEGIN:VCALENDAR
VERSION:2.0
PRODID:-//Irchelschützen - ECPv6.15.20//NONSGML v1.0//EN
CALSCALE:GREGORIAN
METHOD:PUBLISH
X-ORIGINAL-URL:https://irchelschuetzen.ch
X-WR-CALDESC:Veranstaltungen für Irchelschützen
REFRESH-INTERVAL;VALUE=DURATION:PT1H
X-Robots-Tag:noindex
X-PUBLISHED-TTL:PT1H
BEGIN:VTIMEZONE
TZID:Europe/Zurich
BEGIN:DAYLIGHT
TZOFFSETFROM:+0100
TZOFFSETTO:+0200
TZNAME:CEST
DTSTART:20260329T010000
END:DAYLIGHT
BEGIN:STANDARD
TZOFFSETFROM:+0200
TZOFFSETTO:+0100
TZNAME:CET
DTSTART:20261025T010000
END:STANDARD
BEGIN:DAYLIGHT
TZOFFSETFROM:+0100
TZOFFSETTO:+0200
TZNAME:CEST
DTSTART:20270328T010000
END:DAYLIGHT
BEGIN:STANDARD
TZOFFSETFROM:+0200
TZOFFSETTO:+0100
TZNAME:CET
DTSTART:20271031T010000
END:STANDARD
BEGIN:DAYLIGHT
TZOFFSETFROM:+0100
TZOFFSETTO:+0200
TZNAME:CEST
DTSTART:20280326T010000
END:DAYLIGHT
BEGIN:STANDARD
TZOFFSETFROM:+0200
TZOFFSETTO:+0100
TZNAME:CET
DTSTART:20281029T010000
END:STANDARD
END:VTIMEZONE
BEGIN:VEVENT
DTSTART;TZID=Europe/Zurich:20270109T170000
DTEND;TZID=Europe/Zurich:20270109T230000
DTSTAMP:20260423T114655
CREATED:20260224T161622Z
LAST-MODIFIED:20260318T135908Z
UID:10000071-1799514000-1799535600@irchelschuetzen.ch
SUMMARY:Bergemer Tannenfeuer 2027
DESCRIPTION:Traditioneller Winteranlass mit Tannenbaumfeuer für Mitglieder\, Familien und die Dorfbevölkerung in gemütlicher Atmosphäre.
URL:https://irchelschuetzen.ch/event/bergemer-tannenfeuer-2027/
LOCATION:Zürich
CATEGORIES:Anlass
END:VEVENT
END:VCALENDAR