BEGIN:VCALENDAR
VERSION:2.0
PRODID:-//Irchelschützen - ECPv6.15.20//NONSGML v1.0//EN
CALSCALE:GREGORIAN
METHOD:PUBLISH
X-ORIGINAL-URL:https://irchelschuetzen.ch
X-WR-CALDESC:Veranstaltungen für Irchelschützen
REFRESH-INTERVAL;VALUE=DURATION:PT1H
X-Robots-Tag:noindex
X-PUBLISHED-TTL:PT1H
BEGIN:VTIMEZONE
TZID:Europe/Zurich
BEGIN:DAYLIGHT
TZOFFSETFROM:+0100
TZOFFSETTO:+0200
TZNAME:CEST
DTSTART:20250330T010000
END:DAYLIGHT
BEGIN:STANDARD
TZOFFSETFROM:+0200
TZOFFSETTO:+0100
TZNAME:CET
DTSTART:20251026T010000
END:STANDARD
BEGIN:DAYLIGHT
TZOFFSETFROM:+0100
TZOFFSETTO:+0200
TZNAME:CEST
DTSTART:20260329T010000
END:DAYLIGHT
BEGIN:STANDARD
TZOFFSETFROM:+0200
TZOFFSETTO:+0100
TZNAME:CET
DTSTART:20261025T010000
END:STANDARD
BEGIN:DAYLIGHT
TZOFFSETFROM:+0100
TZOFFSETTO:+0200
TZNAME:CEST
DTSTART:20270328T010000
END:DAYLIGHT
BEGIN:STANDARD
TZOFFSETFROM:+0200
TZOFFSETTO:+0100
TZNAME:CET
DTSTART:20271031T010000
END:STANDARD
END:VTIMEZONE
BEGIN:VEVENT
DTSTART;TZID=Europe/Zurich:20261122T130000
DTEND;TZID=Europe/Zurich:20261122T160000
DTSTAMP:20260423T104930
CREATED:20260318T140942Z
LAST-MODIFIED:20260318T140942Z
UID:10000072-1795352400-1795363200@irchelschuetzen.ch
SUMMARY:Uhu-Schiessen (Chlausschiessen) in Berg am Irchel
DESCRIPTION:Das traditionelle Uhu-Schiessen ist ein jährlich stattfindender Anlass mit besonderem Stellenwert. Dabei treten die Irchelschützen gegen die Schützen aus Teufen an und pflegen eine langjährige Kameradschaft sowie den sportlichen Wettkampf. Der Sieger dieses traditionsreichen Duells erhält den begehrten Uhu und darf ihn bis zum nächsten Austragungsjahr halten. In diesem Jahr findet das Uhu-Schiessen in Berg am Irchel statt und verspricht erneut Spannung\, Geselligkeit und gelebte Schützentradition.
URL:https://irchelschuetzen.ch/event/uhu-schiessen-chlausschiessen-in-berg-am-irchel/
LOCATION:Schützenhaus Berg am Irchel\, Grossenacker 2\, Berg am Irchel\, Zürich\, 8415\, Switzerland
CATEGORIES:Anlass,Wettkampf
END:VEVENT
END:VCALENDAR