BEGIN:VCALENDAR
VERSION:2.0
PRODID:-//Irchelschützen - ECPv6.15.20//NONSGML v1.0//EN
CALSCALE:GREGORIAN
METHOD:PUBLISH
X-ORIGINAL-URL:https://irchelschuetzen.ch
X-WR-CALDESC:Veranstaltungen für Irchelschützen
REFRESH-INTERVAL;VALUE=DURATION:PT1H
X-Robots-Tag:noindex
X-PUBLISHED-TTL:PT1H
BEGIN:VTIMEZONE
TZID:Europe/Zurich
BEGIN:DAYLIGHT
TZOFFSETFROM:+0100
TZOFFSETTO:+0200
TZNAME:CEST
DTSTART:20250330T010000
END:DAYLIGHT
BEGIN:STANDARD
TZOFFSETFROM:+0200
TZOFFSETTO:+0100
TZNAME:CET
DTSTART:20251026T010000
END:STANDARD
BEGIN:DAYLIGHT
TZOFFSETFROM:+0100
TZOFFSETTO:+0200
TZNAME:CEST
DTSTART:20260329T010000
END:DAYLIGHT
BEGIN:STANDARD
TZOFFSETFROM:+0200
TZOFFSETTO:+0100
TZNAME:CET
DTSTART:20261025T010000
END:STANDARD
BEGIN:DAYLIGHT
TZOFFSETFROM:+0100
TZOFFSETTO:+0200
TZNAME:CEST
DTSTART:20270328T010000
END:DAYLIGHT
BEGIN:STANDARD
TZOFFSETFROM:+0200
TZOFFSETTO:+0100
TZNAME:CET
DTSTART:20271031T010000
END:STANDARD
END:VTIMEZONE
BEGIN:VEVENT
DTSTART;TZID=Europe/Zurich:20260812T180000
DTEND;TZID=Europe/Zurich:20260812T200000
DTSTAMP:20260423T093701
CREATED:20260224T161459Z
LAST-MODIFIED:20260328T122653Z
UID:10000064-1786557600-1786564800@irchelschuetzen.ch
SUMMARY:Kreis-Sommerschiessen – Vorschiessen
DESCRIPTION:Vorschiessen für das Kreis-Sommerschiessen für Mitglieder\, die am Haupttermin verhindert sind.
URL:https://irchelschuetzen.ch/event/kreis-sommerschiessen-vorschiessen/
LOCATION:Zürich
CATEGORIES:Wettkampf
END:VEVENT
END:VCALENDAR