BEGIN:VCALENDAR
VERSION:2.0
PRODID:-//Irchelschützen - ECPv6.15.20//NONSGML v1.0//EN
CALSCALE:GREGORIAN
METHOD:PUBLISH
X-WR-CALNAME:Irchelschützen
X-ORIGINAL-URL:https://irchelschuetzen.ch
X-WR-CALDESC:Veranstaltungen für Irchelschützen
REFRESH-INTERVAL;VALUE=DURATION:PT1H
X-Robots-Tag:noindex
X-PUBLISHED-TTL:PT1H
BEGIN:VTIMEZONE
TZID:Europe/Zurich
BEGIN:DAYLIGHT
TZOFFSETFROM:+0100
TZOFFSETTO:+0200
TZNAME:CEST
DTSTART:20250330T010000
END:DAYLIGHT
BEGIN:STANDARD
TZOFFSETFROM:+0200
TZOFFSETTO:+0100
TZNAME:CET
DTSTART:20251026T010000
END:STANDARD
BEGIN:DAYLIGHT
TZOFFSETFROM:+0100
TZOFFSETTO:+0200
TZNAME:CEST
DTSTART:20260329T010000
END:DAYLIGHT
BEGIN:STANDARD
TZOFFSETFROM:+0200
TZOFFSETTO:+0100
TZNAME:CET
DTSTART:20261025T010000
END:STANDARD
BEGIN:DAYLIGHT
TZOFFSETFROM:+0100
TZOFFSETTO:+0200
TZNAME:CEST
DTSTART:20270328T010000
END:DAYLIGHT
BEGIN:STANDARD
TZOFFSETFROM:+0200
TZOFFSETTO:+0100
TZNAME:CET
DTSTART:20271031T010000
END:STANDARD
END:VTIMEZONE
BEGIN:VEVENT
DTSTART;TZID=Europe/Zurich:20260418T100000
DTEND;TZID=Europe/Zurich:20260418T120000
DTSTAMP:20260422T235145
CREATED:20260224T161408Z
LAST-MODIFIED:20260301T145903Z
UID:10000054-1776506400-1776513600@irchelschuetzen.ch
SUMMARY:Schnupperschiessen 2026 – Sport\, Präzision & Kameradschaft erleben
DESCRIPTION:Unverbindlicher Einführungstag für Jugendliche ab Jahrgang 2011 und weitere Interessierte zum Kennenlernen unseres Vereins und des Schiesssports.
URL:https://irchelschuetzen.ch/event/schnupperschiessen-2026/
LOCATION:Schützenhaus Berg am Irchel\, Grossenacker 2\, Berg am Irchel\, Zürich\, 8415\, Switzerland
CATEGORIES:Schiessübung
END:VEVENT
END:VCALENDAR