BEGIN:VCALENDAR
VERSION:2.0
PRODID:-//Irchelschützen - ECPv6.15.20//NONSGML v1.0//EN
CALSCALE:GREGORIAN
METHOD:PUBLISH
X-WR-CALNAME:Irchelschützen
X-ORIGINAL-URL:https://irchelschuetzen.ch/en
X-WR-CALDESC:Events for Irchelschützen
REFRESH-INTERVAL;VALUE=DURATION:PT1H
X-Robots-Tag:noindex
X-PUBLISHED-TTL:PT1H
BEGIN:VTIMEZONE
TZID:Europe/Zurich
BEGIN:DAYLIGHT
TZOFFSETFROM:+0100
TZOFFSETTO:+0200
TZNAME:CEST
DTSTART:20250330T010000
END:DAYLIGHT
BEGIN:STANDARD
TZOFFSETFROM:+0200
TZOFFSETTO:+0100
TZNAME:CET
DTSTART:20251026T010000
END:STANDARD
BEGIN:DAYLIGHT
TZOFFSETFROM:+0100
TZOFFSETTO:+0200
TZNAME:CEST
DTSTART:20260329T010000
END:DAYLIGHT
BEGIN:STANDARD
TZOFFSETFROM:+0200
TZOFFSETTO:+0100
TZNAME:CET
DTSTART:20261025T010000
END:STANDARD
BEGIN:DAYLIGHT
TZOFFSETFROM:+0100
TZOFFSETTO:+0200
TZNAME:CEST
DTSTART:20270328T010000
END:DAYLIGHT
BEGIN:STANDARD
TZOFFSETFROM:+0200
TZOFFSETTO:+0100
TZNAME:CET
DTSTART:20271031T010000
END:STANDARD
END:VTIMEZONE
BEGIN:VEVENT
DTSTART;TZID=Europe/Zurich:20260425T140000
DTEND;TZID=Europe/Zurich:20260425T160000
DTSTAMP:20260422T235219
CREATED:20260224T161354Z
LAST-MODIFIED:20260318T140152Z
UID:10000053-1777125600-1777132800@irchelschuetzen.ch
SUMMARY:Nachwuchs – Trainingsschiessen 2
DESCRIPTION:Betreutes Training zur Festigung von Technik\, Haltung und Sicherheit.
URL:https://irchelschuetzen.ch/en/event/junior-training-shooting-2/
LOCATION:Zürich
CATEGORIES:Schiessübung
END:VEVENT
END:VCALENDAR