BEGIN:VCALENDAR
VERSION:2.0
PRODID:-//Irchelschützen - ECPv6.15.20//NONSGML v1.0//EN
CALSCALE:GREGORIAN
METHOD:PUBLISH
X-ORIGINAL-URL:https://irchelschuetzen.ch/en
X-WR-CALDESC:Events for Irchelschützen
REFRESH-INTERVAL;VALUE=DURATION:PT1H
X-Robots-Tag:noindex
X-PUBLISHED-TTL:PT1H
BEGIN:VTIMEZONE
TZID:Europe/Zurich
BEGIN:DAYLIGHT
TZOFFSETFROM:+0100
TZOFFSETTO:+0200
TZNAME:CEST
DTSTART:20250330T010000
END:DAYLIGHT
BEGIN:STANDARD
TZOFFSETFROM:+0200
TZOFFSETTO:+0100
TZNAME:CET
DTSTART:20251026T010000
END:STANDARD
BEGIN:DAYLIGHT
TZOFFSETFROM:+0100
TZOFFSETTO:+0200
TZNAME:CEST
DTSTART:20260329T010000
END:DAYLIGHT
BEGIN:STANDARD
TZOFFSETFROM:+0200
TZOFFSETTO:+0100
TZNAME:CET
DTSTART:20261025T010000
END:STANDARD
BEGIN:DAYLIGHT
TZOFFSETFROM:+0100
TZOFFSETTO:+0200
TZNAME:CEST
DTSTART:20270328T010000
END:DAYLIGHT
BEGIN:STANDARD
TZOFFSETFROM:+0200
TZOFFSETTO:+0100
TZNAME:CET
DTSTART:20271031T010000
END:STANDARD
END:VTIMEZONE
BEGIN:VEVENT
DTSTART;TZID=Europe/Zurich:20260321T093000
DTEND;TZID=Europe/Zurich:20260321T113000
DTSTAMP:20260423T024359
CREATED:20260224T161354Z
LAST-MODIFIED:20260224T170044Z
UID:10000050-1774085400-1774092600@irchelschuetzen.ch
SUMMARY:Freiwillige Schiessübung mit Funktionskontrolle (GM-Vorrunde)
DESCRIPTION:Trainingsmöglichkeit für alle Mitglieder inklusive Funktionskontrolle der Sportgeräte sowie Teilnahme an der Vorrunde der Gruppenmeisterschaft.
URL:https://irchelschuetzen.ch/en/event/voluntary-shooting-practice-with-function-control-gm-preliminary-round/
LOCATION:Zürich
CATEGORIES:Schiessübung
END:VEVENT
END:VCALENDAR